BEGIN:VCALENDAR
VERSION:2.0
PRODID:-//Staatliche Berufsschule Neu-Ulm - ECPv6.15.20//NONSGML v1.0//EN
CALSCALE:GREGORIAN
METHOD:PUBLISH
X-WR-CALNAME:Staatliche Berufsschule Neu-Ulm
X-ORIGINAL-URL:https://www.bsnu.de
X-WR-CALDESC:Veranstaltungen für Staatliche Berufsschule Neu-Ulm
REFRESH-INTERVAL;VALUE=DURATION:PT1H
X-Robots-Tag:noindex
X-PUBLISHED-TTL:PT1H
BEGIN:VTIMEZONE
TZID:UTC
BEGIN:STANDARD
TZOFFSETFROM:+0000
TZOFFSETTO:+0000
TZNAME:UTC
DTSTART:20220101T000000
END:STANDARD
END:VTIMEZONE
BEGIN:VEVENT
DTSTART;TZID=UTC:20230215T140000
DTEND;TZID=UTC:20230215T160000
DTSTAMP:20260420T154635
CREATED:20221222T120840Z
LAST-MODIFIED:20221222T120841Z
UID:1901-1676469600-1676476800@www.bsnu.de
SUMMARY:Abschlussfeier der Verkürzer
DESCRIPTION:Am Mittwoch 15.02.23 findet die Abschlussfeier der Verkürzer an der bsnu um 14:00 Uhr in unserer AULA statt.
URL:https://www.bsnu.de/termine/abschlussfeier-der-verkuerzer/
END:VEVENT
END:VCALENDAR