BEGIN:VCALENDAR
VERSION:2.0
PRODID:-//Staatliche Berufsschule Neu-Ulm - ECPv6.15.20//NONSGML v1.0//EN
CALSCALE:GREGORIAN
METHOD:PUBLISH
X-WR-CALNAME:Staatliche Berufsschule Neu-Ulm
X-ORIGINAL-URL:https://www.bsnu.de
X-WR-CALDESC:Veranstaltungen für Staatliche Berufsschule Neu-Ulm
REFRESH-INTERVAL;VALUE=DURATION:PT1H
X-Robots-Tag:noindex
X-PUBLISHED-TTL:PT1H
BEGIN:VTIMEZONE
TZID:UTC
BEGIN:STANDARD
TZOFFSETFROM:+0000
TZOFFSETTO:+0000
TZNAME:UTC
DTSTART:20220101T000000
END:STANDARD
END:VTIMEZONE
BEGIN:VEVENT
DTSTART;TZID=UTC:20230117T173000
DTEND;TZID=UTC:20230117T190000
DTSTAMP:20260422T103451
CREATED:20221209T104502Z
LAST-MODIFIED:20221209T104505Z
UID:1886-1673976600-1673982000@www.bsnu.de
SUMMARY:Infoabend Kinderpfleger/-in\, Sozialbetreuer/-in\, Pflegefachhelfer/-in
DESCRIPTION:
URL:https://www.bsnu.de/termine/infoabend-kinderpfleger-in-sozialbetreuer-in-pflegefachhelfer-in/
END:VEVENT
END:VCALENDAR